BEGIN:VCALENDAR
VERSION:2.0
PRODID:icalendar-ruby
CALSCALE:GREGORIAN
METHOD:PUBLISH
BEGIN:VTIMEZONE
TZID:Europe/Oslo
BEGIN:DAYLIGHT
DTSTART:20260329T030000
TZOFFSETFROM:+0100
TZOFFSETTO:+0200
RRULE:FREQ=YEARLY;BYDAY=-1SU;BYMONTH=3
TZNAME:CEST
END:DAYLIGHT
BEGIN:STANDARD
DTSTART:20261025T020000
TZOFFSETFROM:+0200
TZOFFSETTO:+0100
RRULE:FREQ=YEARLY;BYDAY=-1SU;BYMONTH=10
TZNAME:CET
END:STANDARD
END:VTIMEZONE
BEGIN:VEVENT
DTSTAMP:20260420T180040Z
UID:1111498
DTSTART;TZID=Europe/Oslo:20260622T090000
DTEND;TZID=Europe/Oslo:20260626T150000
LOCATION:Berger Idrettspark
SEQUENCE:1776687587
SUMMARY:OBOS Sommerfotballskole 2026 født: 2017-2020 (Uke 26)
END:VEVENT
END:VCALENDAR
